BEGIN:VCALENDAR
VERSION:2.0
PRODID:icalendar-ruby
CALSCALE:GREGORIAN
METHOD:PUBLISH
BEGIN:VTIMEZONE
TZID:Europe/London
BEGIN:DAYLIGHT
DTSTART:20260329T020000
TZOFFSETFROM:+0000
TZOFFSETTO:+0100
RRULE:FREQ=YEARLY;BYDAY=-1SU;BYMONTH=3
TZNAME:BST
END:DAYLIGHT
BEGIN:STANDARD
DTSTART:20261025T010000
TZOFFSETFROM:+0100
TZOFFSETTO:+0000
RRULE:FREQ=YEARLY;BYDAY=-1SU;BYMONTH=10
TZNAME:GMT
END:STANDARD
END:VTIMEZONE
BEGIN:VEVENT
DTSTAMP:20260423T191418Z
UID:guest-speakers-night-careers-in-animal-advocacy-and-more-with-dr-andrew
 -knight-and-dr-alice-brough-langford
DTSTART;TZID=Europe/London:20260430T183000
DTEND;TZID=Europe/London:20260430T210000
LOCATION:Conference Room\, Communal Building\, Bristol Veterinary School
SUMMARY:Guest Speakers Night - Careers in Animal Advocacy and more with Dr 
 Andrew Knight and Dr Alice Brough @ Langford
END:VEVENT
END:VCALENDAR
