BEGIN:VCALENDAR
VERSION:2.0
PRODID:icalendar-ruby
CALSCALE:GREGORIAN
METHOD:PUBLISH
BEGIN:VTIMEZONE
TZID:Europe/London
BEGIN:DAYLIGHT
DTSTART:20260329T020000
TZOFFSETFROM:+0000
TZOFFSETTO:+0100
RRULE:FREQ=YEARLY;BYDAY=-1SU;BYMONTH=3
TZNAME:BST
END:DAYLIGHT
BEGIN:STANDARD
DTSTART:20251026T010000
TZOFFSETFROM:+0100
TZOFFSETTO:+0000
RRULE:FREQ=YEARLY;BYDAY=-1SU;BYMONTH=10
TZNAME:GMT
END:STANDARD
END:VTIMEZONE
BEGIN:VEVENT
DTSTAMP:20260423T153319Z
UID:comp-lit-book-club-no-longer-human-by-osamu-dazai
DTSTART;TZID=Europe/London:20251128T180000
DTEND;TZID=Europe/London:20251128T200000
LOCATION:Clifton Community Bookshop
SUMMARY:Comp Lit Book Club: No Longer Human by Osamu Dazai!
END:VEVENT
END:VCALENDAR
