BEGIN:VCALENDAR
VERSION:2.0
PRODID:icalendar-ruby
CALSCALE:GREGORIAN
METHOD:PUBLISH
BEGIN:VTIMEZONE
TZID:Europe/London
BEGIN:DAYLIGHT
DTSTART:20260329T020000
TZOFFSETFROM:+0000
TZOFFSETTO:+0100
RRULE:FREQ=YEARLY;BYDAY=-1SU;BYMONTH=3
TZNAME:BST
END:DAYLIGHT
BEGIN:STANDARD
DTSTART:20261025T010000
TZOFFSETFROM:+0100
TZOFFSETTO:+0000
RRULE:FREQ=YEARLY;BYDAY=-1SU;BYMONTH=10
TZNAME:GMT
END:STANDARD
END:VTIMEZONE
BEGIN:VEVENT
DTSTAMP:20260424T015450Z
UID:dramsoc-x-interact-clowning-workshop-27-04-26
DTSTART;TZID=Europe/London:20260427T180000
DTEND;TZID=Europe/London:20260427T200000
LOCATION:Stephenson Room - Richmond Building
SUMMARY:DRAMSOC X INTERACT CLOWNING WORKSHOP 27/04/26
END:VEVENT
END:VCALENDAR
