BEGIN:VCALENDAR
VERSION:2.0
PRODID:icalendar-ruby
CALSCALE:GREGORIAN
METHOD:PUBLISH
BEGIN:VTIMEZONE
TZID:Europe/London
BEGIN:DAYLIGHT
DTSTART:20250330T020000
TZOFFSETFROM:+0000
TZOFFSETTO:+0100
RRULE:FREQ=YEARLY;BYDAY=-1SU;BYMONTH=3
TZNAME:BST
END:DAYLIGHT
BEGIN:STANDARD
DTSTART:20251026T010000
TZOFFSETFROM:+0100
TZOFFSETTO:+0000
RRULE:FREQ=YEARLY;BYDAY=-1SU;BYMONTH=10
TZNAME:GMT
END:STANDARD
END:VTIMEZONE
BEGIN:VEVENT
DTSTAMP:20260425T171213Z
UID:campfire-give-it-a-go-712e
DTSTART;TZID=Europe/London:20250928T190000
DTEND;TZID=Europe/London:20250928T223000
LOCATION:227th Scout Hut\, Old Quarry Park\, Baldwin\, Eastfield Terrace\, 
 Henleaze\, Bristol BS9 4AR
SUMMARY:Campfire: Give it a Go!
END:VEVENT
END:VCALENDAR
