BEGIN:VCALENDAR
VERSION:2.0
PRODID:icalendar-ruby
CALSCALE:GREGORIAN
METHOD:PUBLISH
BEGIN:VTIMEZONE
TZID:Europe/London
BEGIN:DAYLIGHT
DTSTART:20260329T020000
TZOFFSETFROM:+0000
TZOFFSETTO:+0100
RRULE:FREQ=YEARLY;BYDAY=-1SU;BYMONTH=3
TZNAME:BST
END:DAYLIGHT
BEGIN:STANDARD
DTSTART:20261025T010000
TZOFFSETFROM:+0100
TZOFFSETTO:+0000
RRULE:FREQ=YEARLY;BYDAY=-1SU;BYMONTH=10
TZNAME:GMT
END:STANDARD
END:VTIMEZONE
BEGIN:VEVENT
DTSTAMP:20260423T190740Z
UID:bring-a-boy-high-intensity-mat-pilates-3-00pm-3-45pm-33a8
DTSTART;TZID=Europe/London:20260424T150000
DTEND;TZID=Europe/London:20260424T154500
LOCATION:Yoganand Studio
SUMMARY:Bring a Boy: High Intensity Mat Pilates (3:00pm – 3:45pm)
END:VEVENT
END:VCALENDAR
